BEGIN:VCALENDAR
VERSION:2.0
PRODID:-//International Centre for Climate Change and Development (ICCCAD) - ECPv4.8.2//NONSGML v1.0//EN
CALSCALE:GREGORIAN
METHOD:PUBLISH
X-WR-CALNAME:International Centre for Climate Change and Development (ICCCAD)
X-ORIGINAL-URL:http://icccad.net
X-WR-CALDESC:Events for International Centre for Climate Change and Development (ICCCAD)
BEGIN:VEVENT
DTSTART;TZID=UTC+0:20201118T170000
DTEND;TZID=UTC+0:20201118T181500
DTSTAMP:20260423T140014
CREATED:20201102T074616Z
LAST-MODIFIED:20210127T052104Z
UID:8276-1605718800-1605723300@icccad.net
SUMMARY:Capacity building for climate action and ambition: what have we learned?
DESCRIPTION:IIED and ICCCAD Jointly Organizing Webinar  on what we have learned from past capacity building initiatives and how we can ramp up climate ambition.\n\nDate: Wednesday\, 18 November \n\nTime: 11:00–12:15 (GMT)\nWhere: Online\, using Zoom\n\n\n\nRegistration\n\n\nTo effectively adapt to the escalating impacts of climate change\, support for locally led climate action is needed. Training\, advocacy\, and capacity building are proven pathways to change but what do we need to do now to ramp up ambition? \nJoin this London Climate Action Week online event to discuss what we have learned from past capacity building initiatives and how we can build on shared experiences to collaborate effectively with vulnerable developing countries in the face of growing inequalities. \n\nFor any further queries\, please contact: Juliette Tunstall (juliette.tunstall@iied.org)\, IIED’s internal engagement and external events officer. \nTo know more details and information about the events\, please visit this webpage: https://www.iied.org/capacity-building-for-climate-action-ambition-what-have-we-learned \n\n\n							print\n
URL:http://icccad.net/event/capacity-building-for-climate-action-and-ambition/
LOCATION:Online via Zoom
CATEGORIES:Online Event,Webinar
ATTACH;FMTTYPE=image/jpeg:http://icccad.net/wp-content/uploads/2020/11/Capacity-building-for-climate-action-and-ambition-min.jpg
ORGANIZER;CN="ICCCAD":MAILTO:contact@icccad.net
END:VEVENT
END:VCALENDAR