BEGIN:VCALENDAR
VERSION:2.0
PRODID:-//International Centre for Climate Change and Development (ICCCAD) - ECPv4.8.2//NONSGML v1.0//EN
CALSCALE:GREGORIAN
METHOD:PUBLISH
X-WR-CALNAME:International Centre for Climate Change and Development (ICCCAD)
X-ORIGINAL-URL:http://icccad.net
X-WR-CALDESC:Events for International Centre for Climate Change and Development (ICCCAD)
BEGIN:VEVENT
DTSTART;TZID=UTC+6:20210620T070000
DTEND;TZID=UTC+6:20210620T200000
DTSTAMP:20260424T002114
CREATED:20210620T102932Z
LAST-MODIFIED:20210620T102932Z
UID:9007-1624172400-1624219200@icccad.net
SUMMARY:ICCCAD and IUB E-Lecture Series | 20 Jun 2021
DESCRIPTION:ICCCAD and IUB E-Lecture Series \n\nLECTURE ON “EXPERTISE AND EXCLUSIVITY: WHO DECIDES WHAT TO DO ABOUT ADAPTATION IN BANGLADESH?” BY DANIELLE FALZON \nThe ICCCAD and IUB E – lecture series is a series of monthly\, online lectures with renowned experts working in the field of climate change and development. The lectures provide an opportunity to share knowledge and have discussions on important topics and issues relevant to the climate change discourse.\nFor queries contact: Rukhsar Sultana\, Email: rukhsar.sultana@icccad.org \n\nExample fallback content: This browser does not support PDFs. Please download the PDF to view it: Download PDF.  \n
URL:http://icccad.net/event/icccad-and-iub-e-lecture-series-20-jun-2021/
LOCATION:Online via Zoom
CATEGORIES:E-Lecture Series
ATTACH;FMTTYPE=image/jpeg:http://icccad.net/wp-content/uploads/2021/06/ICCCAD-IUB-lec20jun21-min.jpg
ORGANIZER;CN="ICCCAD":MAILTO:contact@icccad.net
END:VEVENT
END:VCALENDAR